BEGIN:VCALENDAR
VERSION:2.0
PRODID:-//perma-trade Wassertechnik GmbH - ECPv6.15.20//NONSGML v1.0//EN
CALSCALE:GREGORIAN
METHOD:PUBLISH
X-WR-CALNAME:perma-trade Wassertechnik GmbH
X-ORIGINAL-URL:https://www.perma-trade.de
X-WR-CALDESC:Veranstaltungen für perma-trade Wassertechnik GmbH
REFRESH-INTERVAL;VALUE=DURATION:PT1H
X-Robots-Tag:noindex
X-PUBLISHED-TTL:PT1H
BEGIN:VTIMEZONE
TZID:Europe/Berlin
BEGIN:DAYLIGHT
TZOFFSETFROM:+0100
TZOFFSETTO:+0200
TZNAME:CEST
DTSTART:20250330T010000
END:DAYLIGHT
BEGIN:STANDARD
TZOFFSETFROM:+0200
TZOFFSETTO:+0100
TZNAME:CET
DTSTART:20251026T010000
END:STANDARD
BEGIN:DAYLIGHT
TZOFFSETFROM:+0100
TZOFFSETTO:+0200
TZNAME:CEST
DTSTART:20260329T010000
END:DAYLIGHT
BEGIN:STANDARD
TZOFFSETFROM:+0200
TZOFFSETTO:+0100
TZNAME:CET
DTSTART:20261025T010000
END:STANDARD
BEGIN:DAYLIGHT
TZOFFSETFROM:+0100
TZOFFSETTO:+0200
TZNAME:CEST
DTSTART:20270328T010000
END:DAYLIGHT
BEGIN:STANDARD
TZOFFSETFROM:+0200
TZOFFSETTO:+0100
TZNAME:CET
DTSTART:20271031T010000
END:STANDARD
END:VTIMEZONE
BEGIN:VEVENT
DTSTART;TZID=Europe/Berlin:20260421T090000
DTEND;TZID=Europe/Berlin:20260421T170000
DTSTAMP:20260421T141703
CREATED:20260216T135627Z
LAST-MODIFIED:20260216T145147Z
UID:37296-1776762000-1776790800@www.perma-trade.de
SUMMARY:2. Wassertechniktag Leonberg
DESCRIPTION:LEONBERG I Firmenzentrale perma-trade\nDaheim bei den Wassertechnik-Pionieren\nGerne laden wir Sie zu uns „nach Hause“ ein\, an unseren Firmensitz in Leonberg-Höfingen.\nSo können Sie neues Wasserwissen mitnehmen und erkunden\, wo unsere Ideen und Produkte entstehen. \nUnser Programm \n9:00 Begrüßung mit Imbiss \n\n\n\nVDI-Richtlinien 2035 und 6044:\nDie wichtigsten Inhalte im Überblick. Praxis-Tipps für die Umsetzung der Vorgaben\nWorkshop Anlagenwasser:\nVon der VDI-Richtlinie 2035 empfohlenes Teilstromverfahren mit permaLine\, Sauerstoffreduktion mit OxRed\,\nkorrekte Heizungswasserprobe und Interpretation\, Heizungsnachfüllstationen für dauerhaft optimales\nAnlagenwasser\, Verkaufsargumente und Hilfsmittel\n\n\n\n12:00 Mittagessen \n\n\n\nNachhaltiger Kalkschutz mit DVGW-Zertifizierung\, optimale Energieeffizienz bei der Warmwasserbereitung\nund echter Trinkwassergenuss\, hochwertige Rückspülfilter made in Germany\nWorkshop Trinkwasser: Dimensionierung\, Verwendung der my perma-trade App\, Tipps + Tricks für\nPraktiker\, Verkaufsargumente und Kundennutzen\n\n\n\n17:00 Abschließende Diskussionsrunde \n\n\n\n\nSeminar | Wassertechniktag Leonberg 21.04.2026\n\n\n\n\n\n\n\n\n    Firma\n        *\n    \n    \n    \n    \n\n\n    Anrede\n        *\n    \n    		\n		Bitte wählen...HerrFrau	\n	\n    \n    \n\n\n    Vorname\n        *\n    \n    \n    \n    \n\n\n    Nachname\n        *\n    \n    \n    \n    \n\n\n    Straße\n        *\n    \n    \n    \n    \n\n\n    PLZ\n        *\n    \n    \n    \n    \n\n\n    Ort\n        *\n    \n    \n    \n    \n\n\n    Telefon\n        *\n    \n    \n    \n    \n\n\n    E-Mail\n        *\n    \n    \n    \n    \n\n\nWeitere Personen mit anmelden\n\n\n\n	Vorname \n		\n	\n	\n	\n	\n\n\n	Nachname\n		\n	\n	\n	\n	\n\n\n	Vorname \n		\n	\n	\n	\n	\n\n\n	Nachname\n		\n	\n	\n	\n	\n\n\n\n	\n\nSenden\n\n\n\n	\n			\n			\n				Falls Du menschlich bist\, lasse dieses Feld leer.
URL:https://www.perma-trade.de/event/2-wassertechniktag-leonberg-2/
LOCATION:perma-trade Wassertechnik GmbH\, Röntgenstraße 2\, Leonberg\, 71229\, Deutschland
ATTACH;FMTTYPE=image/jpeg:https://www.perma-trade.de/wp-content/uploads/2023/02/perma-trade_Firma-scaled.jpg
END:VEVENT
END:VCALENDAR